BEGIN:VCALENDAR
VERSION:2.0
PRODID:-//Rosenthal Musikmanagement Leipzig - ECPv6.15.18//NONSGML v1.0//EN
CALSCALE:GREGORIAN
METHOD:PUBLISH
X-WR-CALNAME:Rosenthal Musikmanagement Leipzig
X-ORIGINAL-URL:https://rmm-leipzig.de
X-WR-CALDESC:Veranstaltungen für Rosenthal Musikmanagement Leipzig
REFRESH-INTERVAL;VALUE=DURATION:PT1H
X-Robots-Tag:noindex
X-PUBLISHED-TTL:PT1H
BEGIN:VTIMEZONE
TZID:Europe/Berlin
BEGIN:DAYLIGHT
TZOFFSETFROM:+0100
TZOFFSETTO:+0200
TZNAME:CEST
DTSTART:20250330T010000
END:DAYLIGHT
BEGIN:STANDARD
TZOFFSETFROM:+0200
TZOFFSETTO:+0100
TZNAME:CET
DTSTART:20251026T010000
END:STANDARD
BEGIN:DAYLIGHT
TZOFFSETFROM:+0100
TZOFFSETTO:+0200
TZNAME:CEST
DTSTART:20260329T010000
END:DAYLIGHT
BEGIN:STANDARD
TZOFFSETFROM:+0200
TZOFFSETTO:+0100
TZNAME:CET
DTSTART:20261025T010000
END:STANDARD
BEGIN:DAYLIGHT
TZOFFSETFROM:+0100
TZOFFSETTO:+0200
TZNAME:CEST
DTSTART:20270328T010000
END:DAYLIGHT
BEGIN:STANDARD
TZOFFSETFROM:+0200
TZOFFSETTO:+0100
TZNAME:CET
DTSTART:20271031T010000
END:STANDARD
BEGIN:DAYLIGHT
TZOFFSETFROM:+0100
TZOFFSETTO:+0200
TZNAME:CEST
DTSTART:20280326T010000
END:DAYLIGHT
BEGIN:STANDARD
TZOFFSETFROM:+0200
TZOFFSETTO:+0100
TZNAME:CET
DTSTART:20281029T010000
END:STANDARD
END:VTIMEZONE
BEGIN:VEVENT
DTSTART;TZID=Europe/Berlin:20260829T180000
DTEND;TZID=Europe/Berlin:20260829T193000
DTSTAMP:20260419T193145
CREATED:20260407T132541Z
LAST-MODIFIED:20260414T132541Z
UID:10001119-1788026400-1788031800@rmm-leipzig.de
SUMMARY:Duo Duor Ibbenbüren
DESCRIPTION:Duo Duor & Malion Quartett @summerwinds festival
URL:https://rmm-leipzig.de/konzert/duo-duor-ibbenbueren/
LOCATION:St. Ludwigskirche\, Groner Allee 50\, 49477 Ibbenbüren\, Deutschland
CATEGORIES:Jerusalem Duo
END:VEVENT
BEGIN:VEVENT
DTSTART;TZID=Europe/Berlin:20260829T200000
DTEND;TZID=Europe/Berlin:20260829T213000
DTSTAMP:20260419T193145
CREATED:20251201T114033Z
LAST-MODIFIED:20260407T181058Z
UID:10001074-1788033600-1788039000@rmm-leipzig.de
SUMMARY:UWAGA! -  Brauweiler
DESCRIPTION:„Uwaga! trifft Tuba“ mit Thomas Leleu @Classic Nights Brauweiler
URL:https://rmm-leipzig.de/konzert/uwaga-brauweiler-2/
LOCATION:LVR-Kulturzentrum Abtei Brauweiler\, Ehrenfriedstraße 19\, 50259 Pulheim\, Deutschland
CATEGORIES:Uwaga!
END:VEVENT
BEGIN:VEVENT
DTSTART;TZID=Europe/Berlin:20260901T190000
DTEND;TZID=Europe/Berlin:20260901T203000
DTSTAMP:20260419T193145
CREATED:20260203T175552Z
LAST-MODIFIED:20260407T181058Z
UID:10001106-1788289200-1788294600@rmm-leipzig.de
SUMMARY:UWAGA! -  Winningen
DESCRIPTION:„Time Machine“ @Mosel Musikfestival 
URL:https://rmm-leipzig.de/konzert/uwaga-winningen/
LOCATION:Ev. Gemeindezentrum Winningen\,  Kirchstraße 5\, 56333 Winningen
CATEGORIES:Uwaga!
END:VEVENT
BEGIN:VEVENT
DTSTART;TZID=Europe/Berlin:20260902T190000
DTEND;TZID=Europe/Berlin:20260902T203000
DTSTAMP:20260419T193145
CREATED:20260203T175552Z
LAST-MODIFIED:20260407T181058Z
UID:10001107-1788375600-1788381000@rmm-leipzig.de
SUMMARY:UWAGA! -  Mertesdorf
DESCRIPTION:„Time Machine“ @Moselmusikfestival
URL:https://rmm-leipzig.de/konzert/uwaga-mertesdorf/
LOCATION:Maximin Grünhaus Weingut\, Maximin Grünhaus 1\, 54318 Mertesdorf\, Deutschland
CATEGORIES:Uwaga!
END:VEVENT
BEGIN:VEVENT
DTSTART;TZID=Europe/Berlin:20260904T193000
DTEND;TZID=Europe/Berlin:20260904T210000
DTSTAMP:20260419T193145
CREATED:20260113T175707Z
LAST-MODIFIED:20260407T181059Z
UID:10001092-1788550200-1788555600@rmm-leipzig.de
SUMMARY:UWAGA! -  Thun (CH)
DESCRIPTION:„Bach to the roots“ @Bachwochen Thun
URL:https://rmm-leipzig.de/konzert/uwaga-thun-ch/
LOCATION:Theater Alte Oele\, Freienhofgasse 10a\, 3600 Thun\, Schweiz
CATEGORIES:Uwaga!
END:VEVENT
BEGIN:VEVENT
DTSTART;TZID=Europe/Berlin:20260906T200000
DTEND;TZID=Europe/Berlin:20260906T203000
DTSTAMP:20260419T193145
CREATED:20260203T175550Z
LAST-MODIFIED:20260407T181059Z
UID:10001103-1788724800-1788726600@rmm-leipzig.de
SUMMARY:UWAGA! -  Aachen
DESCRIPTION:„Mozartovic“  @Aachener Wohnzimmerkonzerte
URL:https://rmm-leipzig.de/konzert/uwaga-aachen-3/
LOCATION:Burg Frankenberg\, Goffartstraße 45\, 52066 Aachen\, Deutschland
CATEGORIES:Uwaga!
END:VEVENT
BEGIN:VEVENT
DTSTART;TZID=Europe/Berlin:20260910T193000
DTEND;TZID=Europe/Berlin:20260910T210000
DTSTAMP:20260419T193145
CREATED:20260127T185724Z
LAST-MODIFIED:20260415T132639Z
UID:10001099-1789068600-1789074000@rmm-leipzig.de
SUMMARY:amarcord -  Klausen
DESCRIPTION:„Wald.Horn.Lied“ | amarcord & german hornsound | Mosel Musikfestival
URL:https://rmm-leipzig.de/konzert/ama-klausen/
LOCATION:Pfarr- u. Wallfahrtskirche Klausen\, Augustinerplatz 1\, 54524 Klausen\, Deutschland
CATEGORIES:Amarcord
END:VEVENT
BEGIN:VEVENT
DTSTART;TZID=Europe/Berlin:20260912T170000
DTEND;TZID=Europe/Berlin:20260912T183000
DTSTAMP:20260419T193145
CREATED:20251202T165948Z
LAST-MODIFIED:20260417T105616Z
UID:10001080-1789232400-1789237800@rmm-leipzig.de
SUMMARY:Duo Fortezza -  Osterode/ Harz
DESCRIPTION:
URL:https://rmm-leipzig.de/konzert/fortezza-osterode-harz/
LOCATION:Schlosskirche St. Jacobi\, Schloßpl.\, 37520 Osterode am Harz\, Deutschland
CATEGORIES:Duo Fortezza
END:VEVENT
BEGIN:VEVENT
DTSTART;TZID=Europe/Berlin:20260913T160000
DTEND;TZID=Europe/Berlin:20260913T173000
DTSTAMP:20260419T193145
CREATED:20260203T175551Z
LAST-MODIFIED:20260407T181059Z
UID:10001104-1789315200-1789320600@rmm-leipzig.de
SUMMARY:UWAGA! -  Großsedlitz
DESCRIPTION:„Bach to the Roots“ @Elblandia Festival
URL:https://rmm-leipzig.de/konzert/uwaga-grosssedlitz/
LOCATION:Barockgarten Großsedlitz\, Parkstraße 85\, 01809 Heidenau\, Deutschland
CATEGORIES:Uwaga!
END:VEVENT
BEGIN:VEVENT
DTSTART;TZID=Europe/Berlin:20260913T170000
DTEND;TZID=Europe/Berlin:20260913T181500
DTSTAMP:20260419T193145
CREATED:20260210T185801Z
LAST-MODIFIED:20260415T132640Z
UID:10001111-1789318800-1789323300@rmm-leipzig.de
SUMMARY:amarcord -  Frankenberg/ Eder
DESCRIPTION:
URL:https://rmm-leipzig.de/konzert/ama-frankenberg-eder/
LOCATION:Liebfrauenkirche Frankenberg (Eder)\, Auf d. Burg 11\, 35066 Frankenberg (Eder)\, Deutschland
CATEGORIES:Amarcord
END:VEVENT
BEGIN:VEVENT
DTSTART;TZID=Europe/Berlin:20261001T193000
DTEND;TZID=Europe/Berlin:20261001T210000
DTSTAMP:20260419T193145
CREATED:20260203T175551Z
LAST-MODIFIED:20260407T181059Z
UID:10001105-1790883000-1790888400@rmm-leipzig.de
SUMMARY:UWAGA! -  Bonn
DESCRIPTION:„Beethovenmania – Ludwig goes Balkan Groove“ @Beethovenfest Bonn
URL:https://rmm-leipzig.de/konzert/uwaga-bonn/
LOCATION:Meys Fabrik\, Beethovenstraße 21\, 53773 Hennef (Sieg)\, Deutschland
CATEGORIES:Uwaga!
END:VEVENT
BEGIN:VEVENT
DTSTART;TZID=Europe/Berlin:20261010T193000
DTEND;TZID=Europe/Berlin:20261010T210000
DTSTAMP:20260419T193145
CREATED:20260217T192018Z
LAST-MODIFIED:20260415T132640Z
UID:10001113-1791660600-1791666000@rmm-leipzig.de
SUMMARY:amarcord -  Güstrow
DESCRIPTION:
URL:https://rmm-leipzig.de/konzert/ama-guestrow/
LOCATION:Domplatz\, Dompl.\, 18273 Güstrow\, Deutschland
CATEGORIES:Amarcord
END:VEVENT
BEGIN:VEVENT
DTSTART;TZID=Europe/Berlin:20261031T180000
DTEND;TZID=Europe/Berlin:20261031T193000
DTSTAMP:20260419T193145
CREATED:20260203T185557Z
LAST-MODIFIED:20260415T132640Z
UID:10001110-1793469600-1793475000@rmm-leipzig.de
SUMMARY:amarcord -  Wangen
DESCRIPTION:„RIVERS“ @Altstadtkonzerte Wangen 
URL:https://rmm-leipzig.de/konzert/ama-wangen/
LOCATION:Stadthalle Wangen\, Jahnstraße 21\, 88239 Wangen im Allgäu\, Deutschland
CATEGORIES:Amarcord
END:VEVENT
BEGIN:VEVENT
DTSTART;TZID=Europe/Berlin:20270219T193000
DTEND;TZID=Europe/Berlin:20270219T210000
DTSTAMP:20260419T193145
CREATED:20260127T174331Z
LAST-MODIFIED:20260417T105616Z
UID:10001097-1803065400-1803070800@rmm-leipzig.de
SUMMARY:Duo Fortezza -  Mönchengladbach
DESCRIPTION:
URL:https://rmm-leipzig.de/konzert/fortezza-moenchengladbach/
LOCATION:Schloss Rheydt\, Schlossstraße 508\, 41238 Mönchengladbach\, Deutschland
CATEGORIES:Duo Fortezza
END:VEVENT
BEGIN:VEVENT
DTSTART;TZID=Europe/Berlin:20270226T200000
DTEND;TZID=Europe/Berlin:20270226T213000
DTSTAMP:20260419T193145
CREATED:20260417T105616Z
LAST-MODIFIED:20260417T105616Z
UID:10001123-1803672000-1803677400@rmm-leipzig.de
SUMMARY:Duo Fortezza -  Gifhorn
DESCRIPTION:
URL:https://rmm-leipzig.de/konzert/fortezza-gifhorn/
LOCATION:Schloss Gifhorn\, Schloßpl. 1\, 38518 Gifhorn\, Deutschland
CATEGORIES:Duo Fortezza
END:VEVENT
END:VCALENDAR