BEGIN:VCALENDAR
VERSION:2.0
PRODID:-//Rosenthal Musikmanagement Leipzig - ECPv6.15.18//NONSGML v1.0//EN
CALSCALE:GREGORIAN
METHOD:PUBLISH
X-WR-CALNAME:Rosenthal Musikmanagement Leipzig
X-ORIGINAL-URL:https://rmm-leipzig.de
X-WR-CALDESC:Veranstaltungen für Rosenthal Musikmanagement Leipzig
REFRESH-INTERVAL;VALUE=DURATION:PT1H
X-Robots-Tag:noindex
X-PUBLISHED-TTL:PT1H
BEGIN:VTIMEZONE
TZID:Europe/Berlin
BEGIN:DAYLIGHT
TZOFFSETFROM:+0100
TZOFFSETTO:+0200
TZNAME:CEST
DTSTART:20240331T010000
END:DAYLIGHT
BEGIN:STANDARD
TZOFFSETFROM:+0200
TZOFFSETTO:+0100
TZNAME:CET
DTSTART:20241027T010000
END:STANDARD
BEGIN:DAYLIGHT
TZOFFSETFROM:+0100
TZOFFSETTO:+0200
TZNAME:CEST
DTSTART:20250330T010000
END:DAYLIGHT
BEGIN:STANDARD
TZOFFSETFROM:+0200
TZOFFSETTO:+0100
TZNAME:CET
DTSTART:20251026T010000
END:STANDARD
BEGIN:DAYLIGHT
TZOFFSETFROM:+0100
TZOFFSETTO:+0200
TZNAME:CEST
DTSTART:20260329T010000
END:DAYLIGHT
BEGIN:STANDARD
TZOFFSETFROM:+0200
TZOFFSETTO:+0100
TZNAME:CET
DTSTART:20261025T010000
END:STANDARD
END:VTIMEZONE
BEGIN:VEVENT
DTSTART;TZID=Europe/Berlin:20251215T180000
DTEND;TZID=Europe/Berlin:20251215T200000
DTSTAMP:20260423T124526
CREATED:20251201T092505Z
LAST-MODIFIED:20251209T174047Z
UID:10001059-1765821600-1765828800@rmm-leipzig.de
SUMMARY:UWAGA! -  London (UK)
DESCRIPTION:Geschlossene Veranstalteung im Rahmen des Beare’s Chamber Music Festival 2025
URL:https://rmm-leipzig.de/konzert/uwaga-london-uk/
LOCATION:J & A Beare\, 29 Queen Anne Street\, Marylebone High Street\, United Kingdom
CATEGORIES:Uwaga!
GEO:51.518237166218;-0.14590690473674
X-APPLE-STRUCTURED-LOCATION;VALUE=URI;X-ADDRESS=J & A Beare 29 Queen Anne Street Marylebone High Street United Kingdom;X-APPLE-RADIUS=500;X-TITLE=29 Queen Anne Street:geo:-0.14590690473674,51.518237166218
END:VEVENT
END:VCALENDAR